BEGIN:VCALENDAR
VERSION:2.0
PRODID:-//Trinity Baptist Church - ECPv6.15.20//NONSGML v1.0//EN
CALSCALE:GREGORIAN
METHOD:PUBLISH
X-ORIGINAL-URL:https://tbcraleigh.com
X-WR-CALDESC:Events for Trinity Baptist Church
REFRESH-INTERVAL;VALUE=DURATION:PT1H
X-Robots-Tag:noindex
X-PUBLISHED-TTL:PT1H
BEGIN:VTIMEZONE
TZID:America/New_York
BEGIN:DAYLIGHT
TZOFFSETFROM:-0500
TZOFFSETTO:-0400
TZNAME:EDT
DTSTART:20240310T070000
END:DAYLIGHT
BEGIN:STANDARD
TZOFFSETFROM:-0400
TZOFFSETTO:-0500
TZNAME:EST
DTSTART:20241103T060000
END:STANDARD
BEGIN:DAYLIGHT
TZOFFSETFROM:-0500
TZOFFSETTO:-0400
TZNAME:EDT
DTSTART:20250309T070000
END:DAYLIGHT
BEGIN:STANDARD
TZOFFSETFROM:-0400
TZOFFSETTO:-0500
TZNAME:EST
DTSTART:20251102T060000
END:STANDARD
BEGIN:DAYLIGHT
TZOFFSETFROM:-0500
TZOFFSETTO:-0400
TZNAME:EDT
DTSTART:20260308T070000
END:DAYLIGHT
BEGIN:STANDARD
TZOFFSETFROM:-0400
TZOFFSETTO:-0500
TZNAME:EST
DTSTART:20261101T060000
END:STANDARD
END:VTIMEZONE
BEGIN:VEVENT
DTSTART;TZID=America/New_York:20251206T104500
DTEND;TZID=America/New_York:20251206T133000
DTSTAMP:20260424T115703
CREATED:20250924T174629Z
LAST-MODIFIED:20251023T125054Z
UID:10001188-1765017900-1765027800@tbcraleigh.com
SUMMARY:TBC Cares Crockpot Luncheon for Capital Towers
DESCRIPTION:Trinity’s Crockpot Luncheon is one of the resident’s favorite things at Capital Towers.  It is a high energy\, fun packed day for those of us who are able to participate on Saturday\, December 6th.  And\, even if you are unable to attend on Saturday\, there are items needed on Thursday\, December 4th\, making the event possible. The residents love all the soups and especially the leftover soup they take back to their apartments.  And\, the desserts are enjoyed by all. But\, most importantly\, the residents love the fellowship around the table and TBC members showing them love.\n\n  \nAre you able to assist with the Crockpot Luncheon before or at the event? \nIf so\, please sign up by clicking here | You will receive more detailed instructions after you sign up. \nOr\, if you have questions\, please feel free to call Angie Ferree @ (919) 274-4350 or email her at angieferree78@gmail.com \nThank you for your willingness to share God’s love with the residents of Capital Towers!
URL:https://tbcraleigh.com/event/tbc-cares-crockpot-luncheon-for-capital-towers/
LOCATION:NC
CATEGORIES:Churchwide,Missions
ATTACH;FMTTYPE=image/jpeg:https://tbcraleigh.com/wp-content/uploads/2025/09/IMG_0827-e1758737597525.jpg
END:VEVENT
END:VCALENDAR