BEGIN:VCALENDAR
VERSION:2.0
PRODID:-//Trinity Baptist Church - ECPv6.15.20//NONSGML v1.0//EN
CALSCALE:GREGORIAN
METHOD:PUBLISH
X-WR-CALNAME:Trinity Baptist Church
X-ORIGINAL-URL:https://tbcraleigh.com
X-WR-CALDESC:Events for Trinity Baptist Church
REFRESH-INTERVAL;VALUE=DURATION:PT1H
X-Robots-Tag:noindex
X-PUBLISHED-TTL:PT1H
BEGIN:VTIMEZONE
TZID:America/New_York
BEGIN:DAYLIGHT
TZOFFSETFROM:-0500
TZOFFSETTO:-0400
TZNAME:EDT
DTSTART:20250309T070000
END:DAYLIGHT
BEGIN:STANDARD
TZOFFSETFROM:-0400
TZOFFSETTO:-0500
TZNAME:EST
DTSTART:20251102T060000
END:STANDARD
BEGIN:DAYLIGHT
TZOFFSETFROM:-0500
TZOFFSETTO:-0400
TZNAME:EDT
DTSTART:20260308T070000
END:DAYLIGHT
BEGIN:STANDARD
TZOFFSETFROM:-0400
TZOFFSETTO:-0500
TZNAME:EST
DTSTART:20261101T060000
END:STANDARD
BEGIN:DAYLIGHT
TZOFFSETFROM:-0500
TZOFFSETTO:-0400
TZNAME:EDT
DTSTART:20270314T070000
END:DAYLIGHT
BEGIN:STANDARD
TZOFFSETFROM:-0400
TZOFFSETTO:-0500
TZNAME:EST
DTSTART:20271107T060000
END:STANDARD
END:VTIMEZONE
BEGIN:VEVENT
DTSTART;TZID=America/New_York:20260402T130000
DTEND;TZID=America/New_York:20260402T150000
DTSTAMP:20260424T010417
CREATED:20250929T121121Z
LAST-MODIFIED:20250929T121442Z
UID:10001218-1775134800-1775142000@tbcraleigh.com
SUMMARY:Senior Games
DESCRIPTION:Bridge Tables and Chicken Foot Tables are set each week in room A214! \nIf you have any questions\, call Anita Yeargin at 919-389-1299.
URL:https://tbcraleigh.com/event/senior-games/2026-04-02/
LOCATION:Room A214\, 4815 Six Forks Road\, Raleigh\, NC\, 27609\, United States
CATEGORIES:Church Member,Fellowship,Men's Ministry,Senior Adult Ministry,Women's Ministry
ATTACH;FMTTYPE=image/jpeg:https://tbcraleigh.com/wp-content/uploads/2025/09/Cozumel-2024-120-2-e1759148067267.jpg
END:VEVENT
BEGIN:VEVENT
DTSTART;TZID=America/New_York:20260402T173000
DTEND;TZID=America/New_York:20260402T183000
DTSTAMP:20260424T010417
CREATED:20260325T124643Z
LAST-MODIFIED:20260325T124643Z
UID:10001697-1775151000-1775154600@tbcraleigh.com
SUMMARY:Maundy Thursday Fellowship Meal
DESCRIPTION:April 2\, 2026 Maundy Thursday Fellowship Meal\n\n\nPlease join us for our Maundy Thursday Fellowship Meal. There will not be a kids menu for this meal.  Look below for more details & let us know if you will be attending! We can’t wait for an awesome time to enjoy a meal & fellowship with one another.\n\nMain Menu:\n\n\nBBQ Chicken\nPotato Salad\nCorn\n\nNO KIDS MENU\n\n\n\nCost is $7 per person or $20 per family!\n\n\nSign-up deadline is Monday\, March 30th\, so click here to be sure to let us know you will be there!
URL:https://tbcraleigh.com/event/maundy-thursday-fellowship-meal/
LOCATION:Fellowship Hall\, 4815 Six Forks Road\, Raleigh\, NC\, 27609
CATEGORIES:Churchwide,Fellowship
ATTACH;FMTTYPE=image/jpeg:https://tbcraleigh.com/wp-content/uploads/2026/03/Maundy-Thursday-Service-20-scaled-e1774442783614.jpg
END:VEVENT
BEGIN:VEVENT
DTSTART;TZID=America/New_York:20260402T190000
DTEND;TZID=America/New_York:20260402T200000
DTSTAMP:20260424T010417
CREATED:20260325T124906Z
LAST-MODIFIED:20260325T124906Z
UID:10001698-1775156400-1775160000@tbcraleigh.com
SUMMARY:Maundy Thursday Worship and Communion
DESCRIPTION:
URL:https://tbcraleigh.com/event/maundy-thursday-worship-and-communion/
LOCATION:Sanctuary\, 4815 Six Forks Road\, Raleigh\, NC\, 27609\, United States
CATEGORIES:Churchwide,Worship
ATTACH;FMTTYPE=image/jpeg:https://tbcraleigh.com/wp-content/uploads/2026/03/Maundy-Thursday-Service-2-scaled-e1774442718573.jpg
END:VEVENT
END:VCALENDAR