BEGIN:VCALENDAR
VERSION:2.0
PRODID:-//Trinity Baptist Church - ECPv6.15.20//NONSGML v1.0//EN
CALSCALE:GREGORIAN
METHOD:PUBLISH
X-WR-CALNAME:Trinity Baptist Church
X-ORIGINAL-URL:https://tbcraleigh.com
X-WR-CALDESC:Events for Trinity Baptist Church
REFRESH-INTERVAL;VALUE=DURATION:PT1H
X-Robots-Tag:noindex
X-PUBLISHED-TTL:PT1H
BEGIN:VTIMEZONE
TZID:America/New_York
BEGIN:DAYLIGHT
TZOFFSETFROM:-0500
TZOFFSETTO:-0400
TZNAME:EDT
DTSTART:20250309T070000
END:DAYLIGHT
BEGIN:STANDARD
TZOFFSETFROM:-0400
TZOFFSETTO:-0500
TZNAME:EST
DTSTART:20251102T060000
END:STANDARD
BEGIN:DAYLIGHT
TZOFFSETFROM:-0500
TZOFFSETTO:-0400
TZNAME:EDT
DTSTART:20260308T070000
END:DAYLIGHT
BEGIN:STANDARD
TZOFFSETFROM:-0400
TZOFFSETTO:-0500
TZNAME:EST
DTSTART:20261101T060000
END:STANDARD
BEGIN:DAYLIGHT
TZOFFSETFROM:-0500
TZOFFSETTO:-0400
TZNAME:EDT
DTSTART:20270314T070000
END:DAYLIGHT
BEGIN:STANDARD
TZOFFSETFROM:-0400
TZOFFSETTO:-0500
TZNAME:EST
DTSTART:20271107T060000
END:STANDARD
END:VTIMEZONE
BEGIN:VEVENT
DTSTART;VALUE=DATE:20260418
DTEND;VALUE=DATE:20260426
DTSTAMP:20260422T014204
CREATED:20260409T150450Z
LAST-MODIFIED:20260409T150450Z
UID:10001702-1776470400-1777161599@tbcraleigh.com
SUMMARY:Guatemala Mission Trip
DESCRIPTION:From April 18 to 25\, a construction team from Trinity will be in Guatemala to serve at the Good Shepherd’s Center. The on-site missionaries asked the team to bring some items. \nThe clinic needs Vitamin E\, Afrin nasal spray\, 81mg aspirin (baby aspirin)\, prenatal vitamins\, and children’s vitamins. The children’s homes need cloth diapers and rubber pants (medium to large). \nIf you\, your class\, etc.\, would like to support this effort\, please make purchases and place the items in one of the bins at the church entrances.
URL:https://tbcraleigh.com/event/guatemala-mission-trip/
LOCATION:NC
CATEGORIES:Missions
ATTACH;FMTTYPE=image/jpeg:https://tbcraleigh.com/wp-content/uploads/2025/08/image10-e1756311966634.jpg
END:VEVENT
BEGIN:VEVENT
DTSTART;TZID=America/New_York:20260422T183000
DTEND;TZID=America/New_York:20260422T193000
DTSTAMP:20260422T014204
CREATED:20260324T195825Z
LAST-MODIFIED:20260324T195922Z
UID:10001605-1776882600-1776886200@tbcraleigh.com
SUMMARY:"What does the Bible say about ____?"
DESCRIPTION:New Bible Study\nFacilitated by: Dr. Roberts and Dr. Randy McKinney\nApril 15: The Bible\nApril 22: Creation (and Why it Matters)\nApril 29: Salvation and Those Who’ve Never Heard\nMay 6: Marriage and Sexuality\nMay 13: Heaven and Hell
URL:https://tbcraleigh.com/event/what-does-the-bible-say-about-____/2026-04-22/
LOCATION:Room C303\, 4815 Six Forks Road\, Raleigh\, NC\, 27609\, United States
CATEGORIES:Discipleship
ATTACH;FMTTYPE=image/jpeg:https://tbcraleigh.com/wp-content/uploads/2025/09/IMG_9385-1-e1758226491819.jpg
END:VEVENT
END:VCALENDAR