BEGIN:VCALENDAR
VERSION:2.0
PRODID:-//Trinity Baptist Church - ECPv6.15.20//NONSGML v1.0//EN
CALSCALE:GREGORIAN
METHOD:PUBLISH
X-ORIGINAL-URL:https://tbcraleigh.com
X-WR-CALDESC:Events for Trinity Baptist Church
REFRESH-INTERVAL;VALUE=DURATION:PT1H
X-Robots-Tag:noindex
X-PUBLISHED-TTL:PT1H
BEGIN:VTIMEZONE
TZID:America/New_York
BEGIN:DAYLIGHT
TZOFFSETFROM:-0500
TZOFFSETTO:-0400
TZNAME:EDT
DTSTART:20250309T070000
END:DAYLIGHT
BEGIN:STANDARD
TZOFFSETFROM:-0400
TZOFFSETTO:-0500
TZNAME:EST
DTSTART:20251102T060000
END:STANDARD
BEGIN:DAYLIGHT
TZOFFSETFROM:-0500
TZOFFSETTO:-0400
TZNAME:EDT
DTSTART:20260308T070000
END:DAYLIGHT
BEGIN:STANDARD
TZOFFSETFROM:-0400
TZOFFSETTO:-0500
TZNAME:EST
DTSTART:20261101T060000
END:STANDARD
BEGIN:DAYLIGHT
TZOFFSETFROM:-0500
TZOFFSETTO:-0400
TZNAME:EDT
DTSTART:20270314T070000
END:DAYLIGHT
BEGIN:STANDARD
TZOFFSETFROM:-0400
TZOFFSETTO:-0500
TZNAME:EST
DTSTART:20271107T060000
END:STANDARD
END:VTIMEZONE
BEGIN:VEVENT
DTSTART;TZID=America/New_York:20260426T084500
DTEND;TZID=America/New_York:20260426T094500
DTSTAMP:20260424T010735
CREATED:20250729T220518Z
LAST-MODIFIED:20250729T220751Z
UID:10000230-1777193100-1777196700@tbcraleigh.com
SUMMARY:8:45 Worship Service
DESCRIPTION:The two services differ slightly although the same sermon is preached at both services. The early service is a shortened version of the later service\, more focused on scripture and liturgy while the late service has a few more hymns and special songs. \nExtended Teaching Care Available (For Children: Birth – 4 yrs old)
URL:https://tbcraleigh.com/event/845-worship-service-2/2026-04-26/
LOCATION:Sanctuary\, 4815 Six Forks Road\, Raleigh\, NC\, 27609\, United States
CATEGORIES:Worship
ATTACH;FMTTYPE=image/jpeg:https://tbcraleigh.com/wp-content/uploads/2025/07/Worship-Service-Early-revised2.jpg
ORGANIZER;CN="Dr. Jeff Roberts":MAILTO:jroberts@tbcraleigh.com
END:VEVENT
BEGIN:VEVENT
DTSTART;TZID=America/New_York:20260426T094500
DTEND;TZID=America/New_York:20260426T104500
DTSTAMP:20260424T010735
CREATED:20250729T222001Z
LAST-MODIFIED:20250820T221703Z
UID:10000748-1777196700-1777200300@tbcraleigh.com
SUMMARY:Sunday School
DESCRIPTION:We hope you are coming to Trinity to find a place where you can grow in your knowledge and understanding of Christ’s Kingdom on earth and your place in it. Sunday School with Bible Study is the discipline for learning more about your relationship to God\, deepening your faith\, and finding your talents. It is also the place where you will build friendships with other Christians who will help you see God in a real world way.  \nWe have Sunday School Classes for all ages. In our Adult Departments you will find many Bible Study Classes from which to choose. Each class is unique in teaching style\, curriculum and character.  \nLearn More…
URL:https://tbcraleigh.com/event/sunday-school-2/2026-04-26/
LOCATION:All Sunday School Classrooms\, 4815 Six Forks Road\, Raleigh\, NC\, 27609\, United States
CATEGORIES:Worship
ATTACH;FMTTYPE=image/jpeg:https://tbcraleigh.com/wp-content/uploads/2025/06/Sunday-School.jpg
ORGANIZER;CN="Rev. Karen Eickhoff":MAILTO:kmetcalf@tbcraleigh.com
END:VEVENT
BEGIN:VEVENT
DTSTART;TZID=America/New_York:20260426T100000
DTEND;TZID=America/New_York:20260426T150000
DTSTAMP:20260424T010735
CREATED:20260409T151302Z
LAST-MODIFIED:20260409T151302Z
UID:10001704-1777197600-1777215600@tbcraleigh.com
SUMMARY:TBC Cares at Oak City Cares
DESCRIPTION:On Sunday\, April 26\, TBC Cares will provide lunch for 275–300 guests. Johnny Glover and his team will prepare the meal at TBC. \n\n\nWe need: \n\n\n7 volunteers to serve lunch at Oak City Cares\n3 volunteers to assist guests with socks and T-shirts\n\n\nIf you’re unable to serve\, you can still help by donating needed items (see sign-up). Please have items at the church office by Thursday\, April 23 at 2 PM. \n\n\nDonations are also welcome! Please make checks payable to TBC with “TBC Cares/Oak City Cares” in the memo line. \n\n\nPlease submit by Sunday\, April 19. \n\n\n\n\nFor more information\, contact: \n\n\nKelly Beck\, 919-946-5148 or kelbecknc@gmail.com \n\n\nBrenda Lowrance\, 919-605-1609 or bhlowrance@gmail.com \nClick Here to Sign Up
URL:https://tbcraleigh.com/event/tbc-cares-at-oak-city-cares/
LOCATION:Fellowship Hall\, 4815 Six Forks Road\, Raleigh\, NC\, 27609
CATEGORIES:Missions
ATTACH;FMTTYPE=image/jpeg:https://tbcraleigh.com/wp-content/uploads/2025/09/IMG_0827-e1758737597525.jpg
END:VEVENT
BEGIN:VEVENT
DTSTART;TZID=America/New_York:20260426T105500
DTEND;TZID=America/New_York:20260426T120000
DTSTAMP:20260424T010735
CREATED:20250623T124216Z
LAST-MODIFIED:20250623T164018Z
UID:10000489-1777200900-1777204800@tbcraleigh.com
SUMMARY:10:55 Worship Service
DESCRIPTION:Worship is a core value at Trinity and we believe it is vital to the life of a believer in order to grow in faith and in community with others. The worship style at Trinity is traditional\, creative\, and engaging. The music includes traditional hymns\, contemporary music\, Sanctuary choir anthems\, and piano and organ accompaniment. \nExtended Teaching Care Available (For Children: Birth – 4 yrs old)
URL:https://tbcraleigh.com/event/1055-worship-service/2026-04-26/
LOCATION:Sanctuary\, 4815 Six Forks Road\, Raleigh\, NC\, 27609\, United States
CATEGORIES:Worship
ATTACH;FMTTYPE=image/jpeg:https://tbcraleigh.com/wp-content/uploads/2025/06/Worship-Service.jpg
ORGANIZER;CN="Dr. Jeff Roberts":MAILTO:jroberts@tbcraleigh.com
END:VEVENT
END:VCALENDAR