BEGIN:VCALENDAR
VERSION:2.0
PRODID:-//Trinity Baptist Church - ECPv6.15.20//NONSGML v1.0//EN
CALSCALE:GREGORIAN
METHOD:PUBLISH
X-ORIGINAL-URL:https://tbcraleigh.com
X-WR-CALDESC:Events for Trinity Baptist Church
REFRESH-INTERVAL;VALUE=DURATION:PT1H
X-Robots-Tag:noindex
X-PUBLISHED-TTL:PT1H
BEGIN:VTIMEZONE
TZID:America/New_York
BEGIN:DAYLIGHT
TZOFFSETFROM:-0500
TZOFFSETTO:-0400
TZNAME:EDT
DTSTART:20240310T070000
END:DAYLIGHT
BEGIN:STANDARD
TZOFFSETFROM:-0400
TZOFFSETTO:-0500
TZNAME:EST
DTSTART:20241103T060000
END:STANDARD
BEGIN:DAYLIGHT
TZOFFSETFROM:-0500
TZOFFSETTO:-0400
TZNAME:EDT
DTSTART:20250309T070000
END:DAYLIGHT
BEGIN:STANDARD
TZOFFSETFROM:-0400
TZOFFSETTO:-0500
TZNAME:EST
DTSTART:20251102T060000
END:STANDARD
BEGIN:DAYLIGHT
TZOFFSETFROM:-0500
TZOFFSETTO:-0400
TZNAME:EDT
DTSTART:20260308T070000
END:DAYLIGHT
BEGIN:STANDARD
TZOFFSETFROM:-0400
TZOFFSETTO:-0500
TZNAME:EST
DTSTART:20261101T060000
END:STANDARD
END:VTIMEZONE
BEGIN:VEVENT
DTSTART;VALUE=DATE:20250919
DTEND;VALUE=DATE:20250922
DTSTAMP:20260422T150641
CREATED:20250803T172231Z
LAST-MODIFIED:20250825T140659Z
UID:10001001-1758240000-1758499199@tbcraleigh.com
SUMMARY:Friends Camp
DESCRIPTION:at Camp Kanata
URL:https://tbcraleigh.com/event/friends-camp/
LOCATION:Camp Kanata\, 13524 Camp Kanata Rd\, Wake Forest\, 27587\, United States
CATEGORIES:Church Member,Youth Ministry
ATTACH;FMTTYPE=image/jpeg:https://tbcraleigh.com/wp-content/uploads/2025/08/9-scaled-e1755876103926.jpg
END:VEVENT
BEGIN:VEVENT
DTSTART;VALUE=DATE:20250921
DTEND;VALUE=DATE:20250922
DTSTAMP:20260422T150641
CREATED:20250803T173023Z
LAST-MODIFIED:20250908T174921Z
UID:10001005-1758412800-1758499199@tbcraleigh.com
SUMMARY:Prison Alliance Collection
DESCRIPTION:Collecting new/used Bibles and Christian books for Prison Alliance. Bins in the Narthex and at major entry doors. Final collection Oct 12.
URL:https://tbcraleigh.com/event/prison-alliance-collection/2025-09-21/
LOCATION:Narthex\, 4815 Six Forks Road\, Raleigh\, NC\, 27609\, United States
CATEGORIES:Church Member,Missions,Worship
ATTACH;FMTTYPE=image/jpeg:https://tbcraleigh.com/wp-content/uploads/2025/08/IMG_1209-2-scaled.jpg
ORGANIZER;CN="Dr. Randy McKinney":MAILTO:rmckinney@tbcraleigh.com
END:VEVENT
BEGIN:VEVENT
DTSTART;VALUE=DATE:20250921
DTEND;VALUE=DATE:20250928
DTSTAMP:20260422T150641
CREATED:20250803T172608Z
LAST-MODIFIED:20250825T141340Z
UID:10001003-1758412800-1759017599@tbcraleigh.com
SUMMARY:Disaster Relief
DESCRIPTION:
URL:https://tbcraleigh.com/event/disaster-relief/
LOCATION:NC
CATEGORIES:Church Member,Missions
ATTACH;FMTTYPE=image/jpeg:https://tbcraleigh.com/wp-content/uploads/2025/08/Missions-collage2-e1775753003860.jpg
END:VEVENT
BEGIN:VEVENT
DTSTART;VALUE=DATE:20250921
DTEND;VALUE=DATE:20250928
DTSTAMP:20260422T150641
CREATED:20250803T172820Z
LAST-MODIFIED:20250825T141403Z
UID:10001004-1758412800-1759017599@tbcraleigh.com
SUMMARY:Mission Trip - New Orleans
DESCRIPTION:
URL:https://tbcraleigh.com/event/mission-trip-new-orleans/
LOCATION:NC
CATEGORIES:Church Member,Missions
ATTACH;FMTTYPE=image/jpeg:https://tbcraleigh.com/wp-content/uploads/2025/08/aya-salman-Ix7OnZAtyIs-unsplash-scaled.jpg
END:VEVENT
BEGIN:VEVENT
DTSTART;TZID=America/New_York:20250921T160000
DTEND;TZID=America/New_York:20250921T170000
DTSTAMP:20260422T150641
CREATED:20250918T191934Z
LAST-MODIFIED:20251001T121735Z
UID:10001042-1758470400-1758474000@tbcraleigh.com
SUMMARY:Holy Conversations on Grief: Healing Through Connection
DESCRIPTION:A compassionate and supportive class for those navigating grief. Includes guided discussion\, reflective exercises\, and coping strategies in a nurturing environment.\nLed by Rev. Johnny Richards
URL:https://tbcraleigh.com/event/holy-conversations-on-grief-healing-through-connection/2025-09-21/
LOCATION:Room A212\, 4815 Six Forks Road\, Raleigh\, NC\, 27609\, United States
CATEGORIES:Church Member,Discipleship,Men's Ministry,Women's Ministry
ATTACH;FMTTYPE=image/jpeg:https://tbcraleigh.com/wp-content/uploads/2025/09/IMG_9352-e1758226083233.jpg
END:VEVENT
END:VCALENDAR