BEGIN:VCALENDAR
VERSION:2.0
PRODID:-//Trinity Baptist Church - ECPv6.15.20//NONSGML v1.0//EN
CALSCALE:GREGORIAN
METHOD:PUBLISH
X-WR-CALNAME:Trinity Baptist Church
X-ORIGINAL-URL:https://tbcraleigh.com
X-WR-CALDESC:Events for Trinity Baptist Church
REFRESH-INTERVAL;VALUE=DURATION:PT1H
X-Robots-Tag:noindex
X-PUBLISHED-TTL:PT1H
BEGIN:VTIMEZONE
TZID:America/New_York
BEGIN:DAYLIGHT
TZOFFSETFROM:-0500
TZOFFSETTO:-0400
TZNAME:EDT
DTSTART:20240310T070000
END:DAYLIGHT
BEGIN:STANDARD
TZOFFSETFROM:-0400
TZOFFSETTO:-0500
TZNAME:EST
DTSTART:20241103T060000
END:STANDARD
BEGIN:DAYLIGHT
TZOFFSETFROM:-0500
TZOFFSETTO:-0400
TZNAME:EDT
DTSTART:20250309T070000
END:DAYLIGHT
BEGIN:STANDARD
TZOFFSETFROM:-0400
TZOFFSETTO:-0500
TZNAME:EST
DTSTART:20251102T060000
END:STANDARD
BEGIN:DAYLIGHT
TZOFFSETFROM:-0500
TZOFFSETTO:-0400
TZNAME:EDT
DTSTART:20260308T070000
END:DAYLIGHT
BEGIN:STANDARD
TZOFFSETFROM:-0400
TZOFFSETTO:-0500
TZNAME:EST
DTSTART:20261101T060000
END:STANDARD
END:VTIMEZONE
BEGIN:VEVENT
DTSTART;VALUE=DATE:20251201
DTEND;VALUE=DATE:20251204
DTSTAMP:20260420T111339
CREATED:20250924T180103Z
LAST-MODIFIED:20250924T180103Z
UID:10001191-1764547200-1764806399@tbcraleigh.com
SUMMARY:Senior Adults to Myrtle Beach
DESCRIPTION:Details coming soon!
URL:https://tbcraleigh.com/event/senior-adults-to-myrtle-beach/
LOCATION:NC
CATEGORIES:Church Member,Senior Adult Ministry
ATTACH;FMTTYPE=image/jpeg:https://tbcraleigh.com/wp-content/uploads/2025/09/unnamed-2025-09-22T153452.942-scaled-e1758736736702.jpg
END:VEVENT
BEGIN:VEVENT
DTSTART;VALUE=DATE:20251203
DTEND;VALUE=DATE:20251204
DTSTAMP:20260420T111339
CREATED:20250803T184408Z
LAST-MODIFIED:20251117T150325Z
UID:10001029-1764720000-1764806399@tbcraleigh.com
SUMMARY:D-Teams Christmas Party
DESCRIPTION:
URL:https://tbcraleigh.com/event/d-teams-christmas-party/
LOCATION:NC
CATEGORIES:Church Member,Youth Ministry
ATTACH;FMTTYPE=image/jpeg:https://tbcraleigh.com/wp-content/uploads/2025/08/IMG_0485-scaled.jpg
END:VEVENT
END:VCALENDAR