BEGIN:VCALENDAR
VERSION:2.0
PRODID:-//Trinity Baptist Church - ECPv6.15.20//NONSGML v1.0//EN
CALSCALE:GREGORIAN
METHOD:PUBLISH
X-ORIGINAL-URL:https://tbcraleigh.com
X-WR-CALDESC:Events for Trinity Baptist Church
REFRESH-INTERVAL;VALUE=DURATION:PT1H
X-Robots-Tag:noindex
X-PUBLISHED-TTL:PT1H
BEGIN:VTIMEZONE
TZID:America/New_York
BEGIN:DAYLIGHT
TZOFFSETFROM:-0500
TZOFFSETTO:-0400
TZNAME:EDT
DTSTART:20250309T070000
END:DAYLIGHT
BEGIN:STANDARD
TZOFFSETFROM:-0400
TZOFFSETTO:-0500
TZNAME:EST
DTSTART:20251102T060000
END:STANDARD
BEGIN:DAYLIGHT
TZOFFSETFROM:-0500
TZOFFSETTO:-0400
TZNAME:EDT
DTSTART:20260308T070000
END:DAYLIGHT
BEGIN:STANDARD
TZOFFSETFROM:-0400
TZOFFSETTO:-0500
TZNAME:EST
DTSTART:20261101T060000
END:STANDARD
BEGIN:DAYLIGHT
TZOFFSETFROM:-0500
TZOFFSETTO:-0400
TZNAME:EDT
DTSTART:20270314T070000
END:DAYLIGHT
BEGIN:STANDARD
TZOFFSETFROM:-0400
TZOFFSETTO:-0500
TZNAME:EST
DTSTART:20271107T060000
END:STANDARD
END:VTIMEZONE
BEGIN:VEVENT
DTSTART;TZID=America/New_York:20260218T093000
DTEND;TZID=America/New_York:20260218T113000
DTSTAMP:20260420T081023
CREATED:20260203T203421Z
LAST-MODIFIED:20260203T212559Z
UID:10001572-1771407000-1771414200@tbcraleigh.com
SUMMARY:Wednesday Morning Women's Bible Study
DESCRIPTION:Wednesday Morning Women’s Bible Study “Discerning the Voice of God” by Priscilla Shirer \nThe women will need to order their own workbook. They are available at Amazon and Lifeway. Video access is included in the workbook. It is a 7-session study. \nBegins: Wednesday\, February 11 from 9:30 a.m. – 11:30 a.m. \nLocated: C101 \nFacilitated by: Susan Burnette and Valerie York.
URL:https://tbcraleigh.com/event/wednesday-morning-womens-bible-study/2026-02-18/
LOCATION:Room C101\, 4815 Six Forks Road\, Raleigh\, NC\, 27609\, United States
CATEGORIES:Church Member,Discipleship,Women's Ministry
ATTACH;FMTTYPE=image/jpeg:https://tbcraleigh.com/wp-content/uploads/2026/02/IMG_8982.jpg
ORGANIZER;CN="Rev. Karen Eickhoff":MAILTO:kmetcalf@tbcraleigh.com
END:VEVENT
END:VCALENDAR