BEGIN:VCALENDAR
VERSION:2.0
PRODID:-//Trinity Baptist Church - ECPv6.15.20//NONSGML v1.0//EN
CALSCALE:GREGORIAN
METHOD:PUBLISH
X-ORIGINAL-URL:https://tbcraleigh.com
X-WR-CALDESC:Events for Trinity Baptist Church
REFRESH-INTERVAL;VALUE=DURATION:PT1H
X-Robots-Tag:noindex
X-PUBLISHED-TTL:PT1H
BEGIN:VTIMEZONE
TZID:America/New_York
BEGIN:DAYLIGHT
TZOFFSETFROM:-0500
TZOFFSETTO:-0400
TZNAME:EDT
DTSTART:20250309T070000
END:DAYLIGHT
BEGIN:STANDARD
TZOFFSETFROM:-0400
TZOFFSETTO:-0500
TZNAME:EST
DTSTART:20251102T060000
END:STANDARD
BEGIN:DAYLIGHT
TZOFFSETFROM:-0500
TZOFFSETTO:-0400
TZNAME:EDT
DTSTART:20260308T070000
END:DAYLIGHT
BEGIN:STANDARD
TZOFFSETFROM:-0400
TZOFFSETTO:-0500
TZNAME:EST
DTSTART:20261101T060000
END:STANDARD
BEGIN:DAYLIGHT
TZOFFSETFROM:-0500
TZOFFSETTO:-0400
TZNAME:EDT
DTSTART:20270314T070000
END:DAYLIGHT
BEGIN:STANDARD
TZOFFSETFROM:-0400
TZOFFSETTO:-0500
TZNAME:EST
DTSTART:20271107T060000
END:STANDARD
END:VTIMEZONE
BEGIN:VEVENT
DTSTART;TZID=America/New_York:20260316T150000
DTEND;TZID=America/New_York:20260316T210000
DTSTAMP:20260420T062943
CREATED:20260114T142540Z
LAST-MODIFIED:20260206T203241Z
UID:10001565-1773673200-1773694800@tbcraleigh.com
SUMMARY:Senior Adult Trip: NC Baptist Singers and Orchestra
DESCRIPTION:Join us for a trip to enjoy the NC Baptist Singers & Orchestra Concert at Cool Springs Baptist Church\, Sanford\, NC \nDinner on the way at Best Foods Cafeteria \nSign up in the B200 Hall beginning February 22nd \nTrip Leader Anita Yeargin – 919-389-1299 \nTrip Leader: Anita Yeargin | Contact Number: (919)-389-1299
URL:https://tbcraleigh.com/event/senior-adult-trip-nc-baptist-singers-and-orchestra/
LOCATION:NC
CATEGORIES:Church Member,Senior Adult Ministry
ATTACH;FMTTYPE=image/jpeg:https://tbcraleigh.com/wp-content/uploads/2026/01/jay-lee-YglR379FdPY-unsplash-scaled-e1768400716842.jpg
ORGANIZER;CN="Dr. Randy McKinney":MAILTO:rmckinney@tbcraleigh.com
END:VEVENT
END:VCALENDAR