BEGIN:VCALENDAR
VERSION:2.0
PRODID:-//Trinity Baptist Church - ECPv6.15.20//NONSGML v1.0//EN
CALSCALE:GREGORIAN
METHOD:PUBLISH
X-WR-CALNAME:Trinity Baptist Church
X-ORIGINAL-URL:https://tbcraleigh.com
X-WR-CALDESC:Events for Trinity Baptist Church
REFRESH-INTERVAL;VALUE=DURATION:PT1H
X-Robots-Tag:noindex
X-PUBLISHED-TTL:PT1H
BEGIN:VTIMEZONE
TZID:America/New_York
BEGIN:DAYLIGHT
TZOFFSETFROM:-0500
TZOFFSETTO:-0400
TZNAME:EDT
DTSTART:20250309T070000
END:DAYLIGHT
BEGIN:STANDARD
TZOFFSETFROM:-0400
TZOFFSETTO:-0500
TZNAME:EST
DTSTART:20251102T060000
END:STANDARD
BEGIN:DAYLIGHT
TZOFFSETFROM:-0500
TZOFFSETTO:-0400
TZNAME:EDT
DTSTART:20260308T070000
END:DAYLIGHT
BEGIN:STANDARD
TZOFFSETFROM:-0400
TZOFFSETTO:-0500
TZNAME:EST
DTSTART:20261101T060000
END:STANDARD
BEGIN:DAYLIGHT
TZOFFSETFROM:-0500
TZOFFSETTO:-0400
TZNAME:EDT
DTSTART:20270314T070000
END:DAYLIGHT
BEGIN:STANDARD
TZOFFSETFROM:-0400
TZOFFSETTO:-0500
TZNAME:EST
DTSTART:20271107T060000
END:STANDARD
END:VTIMEZONE
BEGIN:VEVENT
DTSTART;TZID=America/New_York:20260503T120000
DTEND;TZID=America/New_York:20260503T150000
DTSTAMP:20260420T062134
CREATED:20260410T122151Z
LAST-MODIFIED:20260410T122909Z
UID:10001749-1777809600-1777820400@tbcraleigh.com
SUMMARY:70th Anniversary Celebration
DESCRIPTION:0th Anniversary Celebration Luncheon Registration\n\n\nJoin us as we celebrate 70 years of ministry at Trinity Baptist Church! \nOn Sunday\, May 3\, we will gather for one combined worship service at 10:30 AM\, followed by a special anniversary luncheon featuring Parker’s BBQ. \n  \nRegistration is required so we can prepare for the correct number of meals. \n\nEvent Details:Date: Sunday\, May 3 \nLuncheon: Immediately following the 10:30 service \nMeal Provider: Parker’s BBQ \nMain Menu: \n\n\n\nChopped BBQ\nFried Chicken\nCornbread Sticks\nColeslaw\nBoiled Potatoes\nGreen Beans\nMac & Cheese\nHush Puppies\nTea\nLemonade\nBanana Pudding\n\n\nCost is $12 per adult/ $8 for children (10 and under)\n\n  \nLast Day to Register is April 15th\,  so be sure to let us know you will be there!  \n\nClick Here to Sign Up!
URL:https://tbcraleigh.com/event/70th-anniversary-celebration/
LOCATION:NC
CATEGORIES:Church Member,Churchwide,Fellowship,Worship
ATTACH;FMTTYPE=image/jpeg:https://tbcraleigh.com/wp-content/uploads/2026/04/2R0A4113-scaled-e1775823686172.jpg
END:VEVENT
END:VCALENDAR