BEGIN:VCALENDAR
VERSION:2.0
PRODID:-//Trinity Baptist Church - ECPv6.15.20//NONSGML v1.0//EN
CALSCALE:GREGORIAN
METHOD:PUBLISH
X-ORIGINAL-URL:https://tbcraleigh.com
X-WR-CALDESC:Events for Trinity Baptist Church
REFRESH-INTERVAL;VALUE=DURATION:PT1H
X-Robots-Tag:noindex
X-PUBLISHED-TTL:PT1H
BEGIN:VTIMEZONE
TZID:America/New_York
BEGIN:DAYLIGHT
TZOFFSETFROM:-0500
TZOFFSETTO:-0400
TZNAME:EDT
DTSTART:20240310T070000
END:DAYLIGHT
BEGIN:STANDARD
TZOFFSETFROM:-0400
TZOFFSETTO:-0500
TZNAME:EST
DTSTART:20241103T060000
END:STANDARD
BEGIN:DAYLIGHT
TZOFFSETFROM:-0500
TZOFFSETTO:-0400
TZNAME:EDT
DTSTART:20250309T070000
END:DAYLIGHT
BEGIN:STANDARD
TZOFFSETFROM:-0400
TZOFFSETTO:-0500
TZNAME:EST
DTSTART:20251102T060000
END:STANDARD
BEGIN:DAYLIGHT
TZOFFSETFROM:-0500
TZOFFSETTO:-0400
TZNAME:EDT
DTSTART:20260308T070000
END:DAYLIGHT
BEGIN:STANDARD
TZOFFSETFROM:-0400
TZOFFSETTO:-0500
TZNAME:EST
DTSTART:20261101T060000
END:STANDARD
BEGIN:DAYLIGHT
TZOFFSETFROM:-0500
TZOFFSETTO:-0400
TZNAME:EDT
DTSTART:20270314T070000
END:DAYLIGHT
BEGIN:STANDARD
TZOFFSETFROM:-0400
TZOFFSETTO:-0500
TZNAME:EST
DTSTART:20271107T060000
END:STANDARD
END:VTIMEZONE
BEGIN:VEVENT
DTSTART;TZID=America/New_York:20260218T093000
DTEND;TZID=America/New_York:20260218T113000
DTSTAMP:20260420T080719
CREATED:20260203T203421Z
LAST-MODIFIED:20260203T212559Z
UID:10001572-1771407000-1771414200@tbcraleigh.com
SUMMARY:Wednesday Morning Women's Bible Study
DESCRIPTION:Wednesday Morning Women’s Bible Study “Discerning the Voice of God” by Priscilla Shirer \nThe women will need to order their own workbook. They are available at Amazon and Lifeway. Video access is included in the workbook. It is a 7-session study. \nBegins: Wednesday\, February 11 from 9:30 a.m. – 11:30 a.m. \nLocated: C101 \nFacilitated by: Susan Burnette and Valerie York.
URL:https://tbcraleigh.com/event/wednesday-morning-womens-bible-study/2026-02-18/
LOCATION:Room C101\, 4815 Six Forks Road\, Raleigh\, NC\, 27609\, United States
CATEGORIES:Church Member,Discipleship,Women's Ministry
ATTACH;FMTTYPE=image/jpeg:https://tbcraleigh.com/wp-content/uploads/2026/02/IMG_8982.jpg
ORGANIZER;CN="Rev. Karen Eickhoff":MAILTO:kmetcalf@tbcraleigh.com
END:VEVENT
BEGIN:VEVENT
DTSTART;TZID=America/New_York:20260217T110000
DTEND;TZID=America/New_York:20260217T133000
DTSTAMP:20260420T080719
CREATED:20260114T154826Z
LAST-MODIFIED:20260203T211830Z
UID:10001568-1771326000-1771335000@tbcraleigh.com
SUMMARY:Lunch and Learn
DESCRIPTION:Speaker: Dr. Sophia Myers – Chiropractor & Acupuncturist \nEngaging presentation focusing on the keys to maintaining independence and mobility at every stage of life. Learn how small\, smart changes can make a difference in how \nyou feel each day. Come curious- Leave empowered and take a confident step toward living a life on your own terms. \nBring a bag lunch. Drinks and dessert will be provided. \nSign up on B200 Hall and C300 Hall beginning February 1st
URL:https://tbcraleigh.com/event/lunch-and-learn-3/
LOCATION:Fellowship Hall\, 4815 Six Forks Road\, Raleigh\, NC\, 27609
CATEGORIES:Church Member,Senior Adult Ministry
ATTACH;FMTTYPE=image/jpeg:https://tbcraleigh.com/wp-content/uploads/2025/08/2R0A0623.jpg
ORGANIZER;CN="Dr. Randy McKinney":MAILTO:rmckinney@tbcraleigh.com
END:VEVENT
BEGIN:VEVENT
DTSTART;TZID=America/New_York:20260212T130000
DTEND;TZID=America/New_York:20260212T150000
DTSTAMP:20260420T080719
CREATED:20250929T121121Z
LAST-MODIFIED:20250929T121442Z
UID:10001211-1770901200-1770908400@tbcraleigh.com
SUMMARY:Senior Games
DESCRIPTION:Bridge Tables and Chicken Foot Tables are set each week in room A214! \nIf you have any questions\, call Anita Yeargin at 919-389-1299.
URL:https://tbcraleigh.com/event/senior-games/2026-02-12/
LOCATION:Room A214\, 4815 Six Forks Road\, Raleigh\, NC\, 27609\, United States
CATEGORIES:Church Member,Fellowship,Men's Ministry,Senior Adult Ministry,Women's Ministry
ATTACH;FMTTYPE=image/jpeg:https://tbcraleigh.com/wp-content/uploads/2025/09/Cozumel-2024-120-2-e1759148067267.jpg
END:VEVENT
BEGIN:VEVENT
DTSTART;TZID=America/New_York:20260211T093000
DTEND;TZID=America/New_York:20260211T113000
DTSTAMP:20260420T080719
CREATED:20260203T203421Z
LAST-MODIFIED:20260203T212559Z
UID:10001571-1770802200-1770809400@tbcraleigh.com
SUMMARY:Wednesday Morning Women's Bible Study
DESCRIPTION:Wednesday Morning Women’s Bible Study “Discerning the Voice of God” by Priscilla Shirer \nThe women will need to order their own workbook. They are available at Amazon and Lifeway. Video access is included in the workbook. It is a 7-session study. \nBegins: Wednesday\, February 11 from 9:30 a.m. – 11:30 a.m. \nLocated: C101 \nFacilitated by: Susan Burnette and Valerie York.
URL:https://tbcraleigh.com/event/wednesday-morning-womens-bible-study/2026-02-11/
LOCATION:Room C101\, 4815 Six Forks Road\, Raleigh\, NC\, 27609\, United States
CATEGORIES:Church Member,Discipleship,Women's Ministry
ATTACH;FMTTYPE=image/jpeg:https://tbcraleigh.com/wp-content/uploads/2026/02/IMG_8982.jpg
ORGANIZER;CN="Rev. Karen Eickhoff":MAILTO:kmetcalf@tbcraleigh.com
END:VEVENT
BEGIN:VEVENT
DTSTART;TZID=America/New_York:20260205T130000
DTEND;TZID=America/New_York:20260205T150000
DTSTAMP:20260420T080719
CREATED:20250929T121121Z
LAST-MODIFIED:20250929T121442Z
UID:10001210-1770296400-1770303600@tbcraleigh.com
SUMMARY:Senior Games
DESCRIPTION:Bridge Tables and Chicken Foot Tables are set each week in room A214! \nIf you have any questions\, call Anita Yeargin at 919-389-1299.
URL:https://tbcraleigh.com/event/senior-games/2026-02-05/
LOCATION:Room A214\, 4815 Six Forks Road\, Raleigh\, NC\, 27609\, United States
CATEGORIES:Church Member,Fellowship,Men's Ministry,Senior Adult Ministry,Women's Ministry
ATTACH;FMTTYPE=image/jpeg:https://tbcraleigh.com/wp-content/uploads/2025/09/Cozumel-2024-120-2-e1759148067267.jpg
END:VEVENT
BEGIN:VEVENT
DTSTART;TZID=America/New_York:20260129T130000
DTEND;TZID=America/New_York:20260129T150000
DTSTAMP:20260420T080719
CREATED:20250929T121121Z
LAST-MODIFIED:20250929T121442Z
UID:10001209-1769691600-1769698800@tbcraleigh.com
SUMMARY:Senior Games
DESCRIPTION:Bridge Tables and Chicken Foot Tables are set each week in room A214! \nIf you have any questions\, call Anita Yeargin at 919-389-1299.
URL:https://tbcraleigh.com/event/senior-games/2026-01-29/
LOCATION:Room A214\, 4815 Six Forks Road\, Raleigh\, NC\, 27609\, United States
CATEGORIES:Church Member,Fellowship,Men's Ministry,Senior Adult Ministry,Women's Ministry
ATTACH;FMTTYPE=image/jpeg:https://tbcraleigh.com/wp-content/uploads/2025/09/Cozumel-2024-120-2-e1759148067267.jpg
END:VEVENT
BEGIN:VEVENT
DTSTART;TZID=America/New_York:20260124T190000
DTEND;TZID=America/New_York:20260124T210000
DTSTAMP:20260420T080719
CREATED:20251229T173943Z
LAST-MODIFIED:20260212T170734Z
UID:10001557-1769281200-1769288400@tbcraleigh.com
SUMMARY:VIBE Ministry Bowling
DESCRIPTION:Active Adults in or near retirement are invited to gather at Buffalo Lanes North on Sat\, Jan. 24\, 2026\, 7:00 – 9:00 p.m. for bowling and fellowship. \nCost is $15/person and includes rental shoes. \nRegister and pay on the church website by: Sunday\, January 18\, 2026. \nClick Here to Sign Up
URL:https://tbcraleigh.com/event/vibe-ministry-bowling/
LOCATION:NC
CATEGORIES:Church Member,Fellowship,Men's Ministry,Senior Adult Ministry,VIBE,Women's Ministry
ATTACH;FMTTYPE=image/jpeg:https://tbcraleigh.com/wp-content/uploads/2025/12/anderson-schmig-IayJpfDhj7E-unsplash-scaled.jpg
END:VEVENT
BEGIN:VEVENT
DTSTART;TZID=America/New_York:20260122T130000
DTEND;TZID=America/New_York:20260122T150000
DTSTAMP:20260420T080719
CREATED:20250929T121121Z
LAST-MODIFIED:20250929T121442Z
UID:10001208-1769086800-1769094000@tbcraleigh.com
SUMMARY:Senior Games
DESCRIPTION:Bridge Tables and Chicken Foot Tables are set each week in room A214! \nIf you have any questions\, call Anita Yeargin at 919-389-1299.
URL:https://tbcraleigh.com/event/senior-games/2026-01-22/
LOCATION:Room A214\, 4815 Six Forks Road\, Raleigh\, NC\, 27609\, United States
CATEGORIES:Church Member,Fellowship,Men's Ministry,Senior Adult Ministry,Women's Ministry
ATTACH;FMTTYPE=image/jpeg:https://tbcraleigh.com/wp-content/uploads/2025/09/Cozumel-2024-120-2-e1759148067267.jpg
END:VEVENT
BEGIN:VEVENT
DTSTART;TZID=America/New_York:20260118T190000
DTEND;TZID=America/New_York:20260118T190000
DTSTAMP:20260420T080719
CREATED:20251229T172513Z
LAST-MODIFIED:20251229T172708Z
UID:10001555-1768762800-1768762800@tbcraleigh.com
SUMMARY:Church Conference
DESCRIPTION:
URL:https://tbcraleigh.com/event/church-conference-2/
LOCATION:Sanctuary\, 4815 Six Forks Road\, Raleigh\, NC\, 27609\, United States
CATEGORIES:Church Member
ATTACH;FMTTYPE=image/jpeg:https://tbcraleigh.com/wp-content/uploads/2025/10/DSC_9737tc-scaled-e1761330396293.jpg
END:VEVENT
BEGIN:VEVENT
DTSTART;TZID=America/New_York:20260118T180000
DTEND;TZID=America/New_York:20260118T190000
DTSTAMP:20260420T080719
CREATED:20251229T172341Z
LAST-MODIFIED:20251229T174420Z
UID:10001554-1768759200-1768762800@tbcraleigh.com
SUMMARY:Deacon/Sunday School Training
DESCRIPTION:Deacon/Sunday School Training and Organizational Meeting\nFor all SS Class Teachers and Leaders\nFollowed by Church Conference at 7:00pm in Sanctuary.
URL:https://tbcraleigh.com/event/deacon-sunday-school-training/
LOCATION:Fellowship Hall\, 4815 Six Forks Road\, Raleigh\, NC\, 27609
CATEGORIES:Church Member
ATTACH;FMTTYPE=image/jpeg:https://tbcraleigh.com/wp-content/uploads/2025/08/2R0A0623.jpg
END:VEVENT
BEGIN:VEVENT
DTSTART;TZID=America/New_York:20260118T105500
DTEND;TZID=America/New_York:20260118T120000
DTSTAMP:20260420T080719
CREATED:20251229T171954Z
LAST-MODIFIED:20251229T171954Z
UID:10001553-1768733700-1768737600@tbcraleigh.com
SUMMARY:Deacon Ordination
DESCRIPTION:Occurs during the 10:55 Service
URL:https://tbcraleigh.com/event/deacon-ordination/
LOCATION:Sanctuary\, 4815 Six Forks Road\, Raleigh\, NC\, 27609\, United States
CATEGORIES:Church Member
ATTACH;FMTTYPE=image/jpeg:https://tbcraleigh.com/wp-content/uploads/2025/12/IMG_8955_1-e1767028762244.jpg
END:VEVENT
BEGIN:VEVENT
DTSTART;TZID=America/New_York:20260115T130000
DTEND;TZID=America/New_York:20260115T150000
DTSTAMP:20260420T080719
CREATED:20250929T121121Z
LAST-MODIFIED:20250929T121442Z
UID:10001207-1768482000-1768489200@tbcraleigh.com
SUMMARY:Senior Games
DESCRIPTION:Bridge Tables and Chicken Foot Tables are set each week in room A214! \nIf you have any questions\, call Anita Yeargin at 919-389-1299.
URL:https://tbcraleigh.com/event/senior-games/2026-01-15/
LOCATION:Room A214\, 4815 Six Forks Road\, Raleigh\, NC\, 27609\, United States
CATEGORIES:Church Member,Fellowship,Men's Ministry,Senior Adult Ministry,Women's Ministry
ATTACH;FMTTYPE=image/jpeg:https://tbcraleigh.com/wp-content/uploads/2025/09/Cozumel-2024-120-2-e1759148067267.jpg
END:VEVENT
BEGIN:VEVENT
DTSTART;TZID=America/New_York:20260108T130000
DTEND;TZID=America/New_York:20260108T150000
DTSTAMP:20260420T080719
CREATED:20250929T121121Z
LAST-MODIFIED:20250929T121442Z
UID:10001206-1767877200-1767884400@tbcraleigh.com
SUMMARY:Senior Games
DESCRIPTION:Bridge Tables and Chicken Foot Tables are set each week in room A214! \nIf you have any questions\, call Anita Yeargin at 919-389-1299.
URL:https://tbcraleigh.com/event/senior-games/2026-01-08/
LOCATION:Room A214\, 4815 Six Forks Road\, Raleigh\, NC\, 27609\, United States
CATEGORIES:Church Member,Fellowship,Men's Ministry,Senior Adult Ministry,Women's Ministry
ATTACH;FMTTYPE=image/jpeg:https://tbcraleigh.com/wp-content/uploads/2025/09/Cozumel-2024-120-2-e1759148067267.jpg
END:VEVENT
BEGIN:VEVENT
DTSTART;TZID=America/New_York:20260101T130000
DTEND;TZID=America/New_York:20260101T150000
DTSTAMP:20260420T080719
CREATED:20250929T121121Z
LAST-MODIFIED:20250929T121442Z
UID:10001205-1767272400-1767279600@tbcraleigh.com
SUMMARY:Senior Games
DESCRIPTION:Bridge Tables and Chicken Foot Tables are set each week in room A214! \nIf you have any questions\, call Anita Yeargin at 919-389-1299.
URL:https://tbcraleigh.com/event/senior-games/2026-01-01/
LOCATION:Room A214\, 4815 Six Forks Road\, Raleigh\, NC\, 27609\, United States
CATEGORIES:Church Member,Fellowship,Men's Ministry,Senior Adult Ministry,Women's Ministry
ATTACH;FMTTYPE=image/jpeg:https://tbcraleigh.com/wp-content/uploads/2025/09/Cozumel-2024-120-2-e1759148067267.jpg
END:VEVENT
BEGIN:VEVENT
DTSTART;TZID=America/New_York:20251225T130000
DTEND;TZID=America/New_York:20251225T150000
DTSTAMP:20260420T080719
CREATED:20250929T121121Z
LAST-MODIFIED:20250929T121442Z
UID:10001204-1766667600-1766674800@tbcraleigh.com
SUMMARY:Senior Games
DESCRIPTION:Bridge Tables and Chicken Foot Tables are set each week in room A214! \nIf you have any questions\, call Anita Yeargin at 919-389-1299.
URL:https://tbcraleigh.com/event/senior-games/2025-12-25/
LOCATION:Room A214\, 4815 Six Forks Road\, Raleigh\, NC\, 27609\, United States
CATEGORIES:Church Member,Fellowship,Men's Ministry,Senior Adult Ministry,Women's Ministry
ATTACH;FMTTYPE=image/jpeg:https://tbcraleigh.com/wp-content/uploads/2025/09/Cozumel-2024-120-2-e1759148067267.jpg
END:VEVENT
BEGIN:VEVENT
DTSTART;TZID=America/New_York:20251218T130000
DTEND;TZID=America/New_York:20251218T150000
DTSTAMP:20260420T080719
CREATED:20250929T121121Z
LAST-MODIFIED:20250929T121442Z
UID:10001203-1766062800-1766070000@tbcraleigh.com
SUMMARY:Senior Games
DESCRIPTION:Bridge Tables and Chicken Foot Tables are set each week in room A214! \nIf you have any questions\, call Anita Yeargin at 919-389-1299.
URL:https://tbcraleigh.com/event/senior-games/2025-12-18/
LOCATION:Room A214\, 4815 Six Forks Road\, Raleigh\, NC\, 27609\, United States
CATEGORIES:Church Member,Fellowship,Men's Ministry,Senior Adult Ministry,Women's Ministry
ATTACH;FMTTYPE=image/jpeg:https://tbcraleigh.com/wp-content/uploads/2025/09/Cozumel-2024-120-2-e1759148067267.jpg
END:VEVENT
BEGIN:VEVENT
DTSTART;TZID=America/New_York:20251213T073000
DTEND;TZID=America/New_York:20251213T090000
DTSTAMP:20260420T080719
CREATED:20251106T182242Z
LAST-MODIFIED:20251106T182242Z
UID:10001466-1765611000-1765616400@tbcraleigh.com
SUMMARY:Men's Ministry Breakfast
DESCRIPTION:
URL:https://tbcraleigh.com/event/mens-ministry-breakfast/
LOCATION:Fellowship Hall\, 4815 Six Forks Road\, Raleigh\, NC\, 27609
CATEGORIES:Church Member,Men's Ministry,Senior Adult Ministry
ATTACH;FMTTYPE=image/jpeg:https://tbcraleigh.com/wp-content/uploads/2025/09/Cozumel-2024-120-2-e1759148067267.jpg
END:VEVENT
BEGIN:VEVENT
DTSTART;TZID=America/New_York:20251211T130000
DTEND;TZID=America/New_York:20251211T150000
DTSTAMP:20260420T080719
CREATED:20250929T121121Z
LAST-MODIFIED:20250929T121442Z
UID:10001202-1765458000-1765465200@tbcraleigh.com
SUMMARY:Senior Games
DESCRIPTION:Bridge Tables and Chicken Foot Tables are set each week in room A214! \nIf you have any questions\, call Anita Yeargin at 919-389-1299.
URL:https://tbcraleigh.com/event/senior-games/2025-12-11/
LOCATION:Room A214\, 4815 Six Forks Road\, Raleigh\, NC\, 27609\, United States
CATEGORIES:Church Member,Fellowship,Men's Ministry,Senior Adult Ministry,Women's Ministry
ATTACH;FMTTYPE=image/jpeg:https://tbcraleigh.com/wp-content/uploads/2025/09/Cozumel-2024-120-2-e1759148067267.jpg
END:VEVENT
BEGIN:VEVENT
DTSTART;TZID=America/New_York:20251207T160000
DTEND;TZID=America/New_York:20251207T170000
DTSTAMP:20260420T080719
CREATED:20250918T191934Z
LAST-MODIFIED:20251001T121735Z
UID:10001053-1765123200-1765126800@tbcraleigh.com
SUMMARY:Holy Conversations on Grief: Healing Through Connection
DESCRIPTION:A compassionate and supportive class for those navigating grief. Includes guided discussion\, reflective exercises\, and coping strategies in a nurturing environment.\nLed by Rev. Johnny Richards
URL:https://tbcraleigh.com/event/holy-conversations-on-grief-healing-through-connection/2025-12-07/
LOCATION:Room A212\, 4815 Six Forks Road\, Raleigh\, NC\, 27609\, United States
CATEGORIES:Church Member,Discipleship,Men's Ministry,Women's Ministry
ATTACH;FMTTYPE=image/jpeg:https://tbcraleigh.com/wp-content/uploads/2025/09/IMG_9352-e1758226083233.jpg
END:VEVENT
BEGIN:VEVENT
DTSTART;VALUE=DATE:20251205
DTEND;VALUE=DATE:20251206
DTSTAMP:20260420T080719
CREATED:20250803T184609Z
LAST-MODIFIED:20250924T184140Z
UID:10001030-1764892800-1764979199@tbcraleigh.com
SUMMARY:Trip to Southern Supreme Fruitcake Factory
DESCRIPTION:
URL:https://tbcraleigh.com/event/trip-to-southern-supreme-fruitcake-factory/
LOCATION:NC
CATEGORIES:Church Member,Senior Adult Ministry
ATTACH;FMTTYPE=image/jpeg:https://tbcraleigh.com/wp-content/uploads/2025/08/2025-e1758739293939.jpg
END:VEVENT
BEGIN:VEVENT
DTSTART;TZID=America/New_York:20251204T130000
DTEND;TZID=America/New_York:20251204T150000
DTSTAMP:20260420T080719
CREATED:20250929T121121Z
LAST-MODIFIED:20250929T121442Z
UID:10001201-1764853200-1764860400@tbcraleigh.com
SUMMARY:Senior Games
DESCRIPTION:Bridge Tables and Chicken Foot Tables are set each week in room A214! \nIf you have any questions\, call Anita Yeargin at 919-389-1299.
URL:https://tbcraleigh.com/event/senior-games/2025-12-04/
LOCATION:Room A214\, 4815 Six Forks Road\, Raleigh\, NC\, 27609\, United States
CATEGORIES:Church Member,Fellowship,Men's Ministry,Senior Adult Ministry,Women's Ministry
ATTACH;FMTTYPE=image/jpeg:https://tbcraleigh.com/wp-content/uploads/2025/09/Cozumel-2024-120-2-e1759148067267.jpg
END:VEVENT
BEGIN:VEVENT
DTSTART;VALUE=DATE:20251203
DTEND;VALUE=DATE:20251204
DTSTAMP:20260420T080719
CREATED:20250803T184408Z
LAST-MODIFIED:20251117T150325Z
UID:10001029-1764720000-1764806399@tbcraleigh.com
SUMMARY:D-Teams Christmas Party
DESCRIPTION:
URL:https://tbcraleigh.com/event/d-teams-christmas-party/
LOCATION:NC
CATEGORIES:Church Member,Youth Ministry
ATTACH;FMTTYPE=image/jpeg:https://tbcraleigh.com/wp-content/uploads/2025/08/IMG_0485-scaled.jpg
END:VEVENT
BEGIN:VEVENT
DTSTART;VALUE=DATE:20251201
DTEND;VALUE=DATE:20251204
DTSTAMP:20260420T080719
CREATED:20250924T180103Z
LAST-MODIFIED:20250924T180103Z
UID:10001191-1764547200-1764806399@tbcraleigh.com
SUMMARY:Senior Adults to Myrtle Beach
DESCRIPTION:Details coming soon!
URL:https://tbcraleigh.com/event/senior-adults-to-myrtle-beach/
LOCATION:NC
CATEGORIES:Church Member,Senior Adult Ministry
ATTACH;FMTTYPE=image/jpeg:https://tbcraleigh.com/wp-content/uploads/2025/09/unnamed-2025-09-22T153452.942-scaled-e1758736736702.jpg
END:VEVENT
BEGIN:VEVENT
DTSTART;TZID=America/New_York:20251130T160000
DTEND;TZID=America/New_York:20251130T170000
DTSTAMP:20260420T080719
CREATED:20250918T191934Z
LAST-MODIFIED:20251001T121735Z
UID:10001052-1764518400-1764522000@tbcraleigh.com
SUMMARY:Holy Conversations on Grief: Healing Through Connection
DESCRIPTION:A compassionate and supportive class for those navigating grief. Includes guided discussion\, reflective exercises\, and coping strategies in a nurturing environment.\nLed by Rev. Johnny Richards
URL:https://tbcraleigh.com/event/holy-conversations-on-grief-healing-through-connection/2025-11-30/
LOCATION:Room A212\, 4815 Six Forks Road\, Raleigh\, NC\, 27609\, United States
CATEGORIES:Church Member,Discipleship,Men's Ministry,Women's Ministry
ATTACH;FMTTYPE=image/jpeg:https://tbcraleigh.com/wp-content/uploads/2025/09/IMG_9352-e1758226083233.jpg
END:VEVENT
BEGIN:VEVENT
DTSTART;TZID=America/New_York:20251123T160000
DTEND;TZID=America/New_York:20251123T170000
DTSTAMP:20260420T080719
CREATED:20250918T191934Z
LAST-MODIFIED:20251001T121735Z
UID:10001051-1763913600-1763917200@tbcraleigh.com
SUMMARY:Holy Conversations on Grief: Healing Through Connection
DESCRIPTION:A compassionate and supportive class for those navigating grief. Includes guided discussion\, reflective exercises\, and coping strategies in a nurturing environment.\nLed by Rev. Johnny Richards
URL:https://tbcraleigh.com/event/holy-conversations-on-grief-healing-through-connection/2025-11-23/
LOCATION:Room A212\, 4815 Six Forks Road\, Raleigh\, NC\, 27609\, United States
CATEGORIES:Church Member,Discipleship,Men's Ministry,Women's Ministry
ATTACH;FMTTYPE=image/jpeg:https://tbcraleigh.com/wp-content/uploads/2025/09/IMG_9352-e1758226083233.jpg
END:VEVENT
BEGIN:VEVENT
DTSTART;VALUE=DATE:20251122
DTEND;VALUE=DATE:20251123
DTSTAMP:20260420T080719
CREATED:20250803T183609Z
LAST-MODIFIED:20250924T183949Z
UID:10001027-1763769600-1763855999@tbcraleigh.com
SUMMARY:Trip to Meadow Christmas Lights
DESCRIPTION:
URL:https://tbcraleigh.com/event/trip-to-meadow-christmas-lights/
LOCATION:NC
CATEGORIES:Church Member,Senior Adult Ministry
ATTACH;FMTTYPE=image/jpeg:https://tbcraleigh.com/wp-content/uploads/2025/08/Meadow-Lights_28_35690dea-5056-b3a8-49044e4a3f22107d-e1758739182276.jpg
END:VEVENT
BEGIN:VEVENT
DTSTART;TZID=America/New_York:20251120T190000
DTEND;TZID=America/New_York:20251120T200000
DTSTAMP:20260420T080719
CREATED:20250803T171756Z
LAST-MODIFIED:20251010T124525Z
UID:10001000-1763665200-1763668800@tbcraleigh.com
SUMMARY:Women's Book Club
DESCRIPTION:Christmas With the Queen by Hazel Gaynor* (Library has 8 copies)
URL:https://tbcraleigh.com/event/women/
LOCATION:Parlor in Building A
CATEGORIES:Church Member,Discipleship,Women's Ministry
ATTACH;FMTTYPE=image/jpeg:https://tbcraleigh.com/wp-content/uploads/2025/08/Christmas-with-Queen.jpg
END:VEVENT
BEGIN:VEVENT
DTSTART;TZID=America/New_York:20251120T130000
DTEND;TZID=America/New_York:20251120T150000
DTSTAMP:20260420T080719
CREATED:20250929T121121Z
LAST-MODIFIED:20250929T121442Z
UID:10001199-1763643600-1763650800@tbcraleigh.com
SUMMARY:Senior Games
DESCRIPTION:Bridge Tables and Chicken Foot Tables are set each week in room A214! \nIf you have any questions\, call Anita Yeargin at 919-389-1299.
URL:https://tbcraleigh.com/event/senior-games/2025-11-20/
LOCATION:Room A214\, 4815 Six Forks Road\, Raleigh\, NC\, 27609\, United States
CATEGORIES:Church Member,Fellowship,Men's Ministry,Senior Adult Ministry,Women's Ministry
ATTACH;FMTTYPE=image/jpeg:https://tbcraleigh.com/wp-content/uploads/2025/09/Cozumel-2024-120-2-e1759148067267.jpg
END:VEVENT
BEGIN:VEVENT
DTSTART;VALUE=DATE:20251119
DTEND;VALUE=DATE:20251120
DTSTAMP:20260420T080719
CREATED:20250803T181729Z
LAST-MODIFIED:20250924T183710Z
UID:10001025-1763510400-1763596799@tbcraleigh.com
SUMMARY:Youth Worship Night
DESCRIPTION:
URL:https://tbcraleigh.com/event/youth-worship-night/
LOCATION:NC
CATEGORIES:Church Member,Youth Ministry
ATTACH;FMTTYPE=image/jpeg:https://tbcraleigh.com/wp-content/uploads/2025/08/2R0A0757-e1758739022772.jpg
END:VEVENT
BEGIN:VEVENT
DTSTART;TZID=America/New_York:20251116T160000
DTEND;TZID=America/New_York:20251116T170000
DTSTAMP:20260420T080719
CREATED:20250918T191934Z
LAST-MODIFIED:20251001T121735Z
UID:10001050-1763308800-1763312400@tbcraleigh.com
SUMMARY:Holy Conversations on Grief: Healing Through Connection
DESCRIPTION:A compassionate and supportive class for those navigating grief. Includes guided discussion\, reflective exercises\, and coping strategies in a nurturing environment.\nLed by Rev. Johnny Richards
URL:https://tbcraleigh.com/event/holy-conversations-on-grief-healing-through-connection/2025-11-16/
LOCATION:Room A212\, 4815 Six Forks Road\, Raleigh\, NC\, 27609\, United States
CATEGORIES:Church Member,Discipleship,Men's Ministry,Women's Ministry
ATTACH;FMTTYPE=image/jpeg:https://tbcraleigh.com/wp-content/uploads/2025/09/IMG_9352-e1758226083233.jpg
END:VEVENT
END:VCALENDAR