BEGIN:VCALENDAR
VERSION:2.0
PRODID:-//Trinity Baptist Church - ECPv6.15.20//NONSGML v1.0//EN
CALSCALE:GREGORIAN
METHOD:PUBLISH
X-WR-CALNAME:Trinity Baptist Church
X-ORIGINAL-URL:https://tbcraleigh.com
X-WR-CALDESC:Events for Trinity Baptist Church
REFRESH-INTERVAL;VALUE=DURATION:PT1H
X-Robots-Tag:noindex
X-PUBLISHED-TTL:PT1H
BEGIN:VTIMEZONE
TZID:America/New_York
BEGIN:DAYLIGHT
TZOFFSETFROM:-0500
TZOFFSETTO:-0400
TZNAME:EDT
DTSTART:20240310T070000
END:DAYLIGHT
BEGIN:STANDARD
TZOFFSETFROM:-0400
TZOFFSETTO:-0500
TZNAME:EST
DTSTART:20241103T060000
END:STANDARD
BEGIN:DAYLIGHT
TZOFFSETFROM:-0500
TZOFFSETTO:-0400
TZNAME:EDT
DTSTART:20250309T070000
END:DAYLIGHT
BEGIN:STANDARD
TZOFFSETFROM:-0400
TZOFFSETTO:-0500
TZNAME:EST
DTSTART:20251102T060000
END:STANDARD
BEGIN:DAYLIGHT
TZOFFSETFROM:-0500
TZOFFSETTO:-0400
TZNAME:EDT
DTSTART:20260308T070000
END:DAYLIGHT
BEGIN:STANDARD
TZOFFSETFROM:-0400
TZOFFSETTO:-0500
TZNAME:EST
DTSTART:20261101T060000
END:STANDARD
BEGIN:DAYLIGHT
TZOFFSETFROM:-0500
TZOFFSETTO:-0400
TZNAME:EDT
DTSTART:20270314T070000
END:DAYLIGHT
BEGIN:STANDARD
TZOFFSETFROM:-0400
TZOFFSETTO:-0500
TZNAME:EST
DTSTART:20271107T060000
END:STANDARD
END:VTIMEZONE
BEGIN:VEVENT
DTSTART;TZID=America/New_York:20260316T150000
DTEND;TZID=America/New_York:20260316T210000
DTSTAMP:20260424T014440
CREATED:20260114T142540Z
LAST-MODIFIED:20260206T203241Z
UID:10001565-1773673200-1773694800@tbcraleigh.com
SUMMARY:Senior Adult Trip: NC Baptist Singers and Orchestra
DESCRIPTION:Join us for a trip to enjoy the NC Baptist Singers & Orchestra Concert at Cool Springs Baptist Church\, Sanford\, NC \nDinner on the way at Best Foods Cafeteria \nSign up in the B200 Hall beginning February 22nd \nTrip Leader Anita Yeargin – 919-389-1299 \nTrip Leader: Anita Yeargin | Contact Number: (919)-389-1299
URL:https://tbcraleigh.com/event/senior-adult-trip-nc-baptist-singers-and-orchestra/
CATEGORIES:Church Member,Senior Adult Ministry
ATTACH;FMTTYPE=image/jpeg:https://tbcraleigh.com/wp-content/uploads/2026/01/jay-lee-YglR379FdPY-unsplash-scaled-e1768400716842.jpg
ORGANIZER;CN="Dr. Randy McKinney":MAILTO:rmckinney@tbcraleigh.com
END:VEVENT
BEGIN:VEVENT
DTSTART;TZID=America/New_York:20260305T183000
DTEND;TZID=America/New_York:20260305T193000
DTSTAMP:20260424T014440
CREATED:20260212T183750Z
LAST-MODIFIED:20260212T183750Z
UID:10001581-1772735400-1772739000@tbcraleigh.com
SUMMARY:Beyond the Box (Operation Christmas Child)
DESCRIPTION:All Trinity Members Invited! \nWhere: Fellowship Hall \nDate: March 5\, 2026 \nTime: 6:30-7:30pm \nAgenda: Time of worship\, prayer and celebration or our 2025 box collection and hearing a testimony directly from a shoebox recipient from Belarus.
URL:https://tbcraleigh.com/event/beyond-the-box-operation-christmas-child/
LOCATION:Fellowship Hall\, 4815 Six Forks Road\, Raleigh\, NC\, 27609
CATEGORIES:Church Member,Churchwide,Missions
ATTACH;FMTTYPE=image/jpeg:https://tbcraleigh.com/wp-content/uploads/2025/10/1141PH-A-100-scaled-e1760990796442.jpg
ORGANIZER;CN="Dr. Randy McKinney":MAILTO:rmckinney@tbcraleigh.com
END:VEVENT
BEGIN:VEVENT
DTSTART;TZID=America/New_York:20260305T183000
DTEND;TZID=America/New_York:20260305T193000
DTSTAMP:20260424T014440
CREATED:20260203T204234Z
LAST-MODIFIED:20260212T182312Z
UID:10001578-1772735400-1772739000@tbcraleigh.com
SUMMARY:Beyond the Box
DESCRIPTION:Event: Beyond the Box (celebration event for our Upper Wake Operation Christmas Child volunteers and box participants)\nAll Trinity members are invited!\nWhere: Fellowship Hall\nDate: March 5\, 2026\nTime: 6:30-7:30p\nAgenda: Time of worship\, prayer and celebration or our 2025 box collection and  hearing a testimony directly from a shoebox recipient from Belarus.
URL:https://tbcraleigh.com/event/beyond-the-box/
LOCATION:Fellowship Hall\, 4815 Six Forks Road\, Raleigh\, NC\, 27609
CATEGORIES:Churchwide,Missions
ATTACH;FMTTYPE=image/jpeg:https://tbcraleigh.com/wp-content/uploads/2025/11/IMG_8783-scaled-e1764094447914.jpg
ORGANIZER;CN="Dr. Randy McKinney":MAILTO:rmckinney@tbcraleigh.com
END:VEVENT
BEGIN:VEVENT
DTSTART;TZID=America/New_York:20260226T190000
DTEND;TZID=America/New_York:20260226T203000
DTSTAMP:20260424T014440
CREATED:20260212T182057Z
LAST-MODIFIED:20260212T210941Z
UID:10001579-1772132400-1772137800@tbcraleigh.com
SUMMARY:AI- Friend\, Foe\, or I Don't Know
DESCRIPTION:Join our VIBE Ministry for a captivating session on Artificial Intelligence. Meeting Thursday\, February 26\, at 7 PM in the Fellowship Hall\, Larry Essary will unveil what AI can do for you—and what it might do to you! We’ll dive into personal tech security and explore other intriguing AI and computer security related topics. Plus\, when you sign up\, you can submit your burning questions for us to discuss. Don’t miss out on this engaging evening! See you there! \n\nClick Here to Sign Up Now!
URL:https://tbcraleigh.com/event/ai-friend-foe-or-i-dont-know/
LOCATION:Fellowship Hall\, 4815 Six Forks Road\, Raleigh\, NC\, 27609
CATEGORIES:Church Member,VIBE
ATTACH;FMTTYPE=image/png:https://tbcraleigh.com/wp-content/uploads/2026/02/36.png
ORGANIZER;CN="Dr. Randy McKinney":MAILTO:rmckinney@tbcraleigh.com
END:VEVENT
BEGIN:VEVENT
DTSTART;TZID=America/New_York:20260217T110000
DTEND;TZID=America/New_York:20260217T133000
DTSTAMP:20260424T014440
CREATED:20260114T154826Z
LAST-MODIFIED:20260203T211830Z
UID:10001568-1771326000-1771335000@tbcraleigh.com
SUMMARY:Lunch and Learn
DESCRIPTION:Speaker: Dr. Sophia Myers – Chiropractor & Acupuncturist \nEngaging presentation focusing on the keys to maintaining independence and mobility at every stage of life. Learn how small\, smart changes can make a difference in how \nyou feel each day. Come curious- Leave empowered and take a confident step toward living a life on your own terms. \nBring a bag lunch. Drinks and dessert will be provided. \nSign up on B200 Hall and C300 Hall beginning February 1st
URL:https://tbcraleigh.com/event/lunch-and-learn-3/
LOCATION:Fellowship Hall\, 4815 Six Forks Road\, Raleigh\, NC\, 27609
CATEGORIES:Church Member,Senior Adult Ministry
ATTACH;FMTTYPE=image/jpeg:https://tbcraleigh.com/wp-content/uploads/2025/08/2R0A0623.jpg
ORGANIZER;CN="Dr. Randy McKinney":MAILTO:rmckinney@tbcraleigh.com
END:VEVENT
BEGIN:VEVENT
DTSTART;TZID=America/New_York:20260207T081500
DTEND;TZID=America/New_York:20260207T153000
DTSTAMP:20260424T014440
CREATED:20260114T134836Z
LAST-MODIFIED:20260114T135057Z
UID:10001560-1770452100-1770478200@tbcraleigh.com
SUMMARY:Habitat Build Day
DESCRIPTION:Coordinator: Jen Hall \nCan you join our team to partner with other congregations to build the Beloved Community at Old Poole Place in Raleigh? \nNo construction experience is necessary. Habitat has site supervisors who are skilled at teaching people how to build. You must be 16 years old to volunteer with Habitat. \nIf interested contact: \nDr. Randy Mckinney at rmckinney@tbcraleigh.com
URL:https://tbcraleigh.com/event/habitat-build-day/2026-02-07/
CATEGORIES:Churchwide,Missions
ATTACH;FMTTYPE=image/jpeg:https://tbcraleigh.com/wp-content/uploads/2025/10/MissionsPageHeader.jpg
ORGANIZER;CN="Dr. Randy McKinney":MAILTO:rmckinney@tbcraleigh.com
END:VEVENT
BEGIN:VEVENT
DTSTART;VALUE=DATE:20251012
DTEND;VALUE=DATE:20251013
DTSTAMP:20260424T014440
CREATED:20250803T173023Z
LAST-MODIFIED:20250908T174921Z
UID:10001039-1760227200-1760313599@tbcraleigh.com
SUMMARY:Prison Alliance Collection
DESCRIPTION:Collecting new/used Bibles and Christian books for Prison Alliance. Bins in the Narthex and at major entry doors. Final collection Oct 12.
URL:https://tbcraleigh.com/event/prison-alliance-collection/2025-10-12/
LOCATION:Narthex\, 4815 Six Forks Road\, Raleigh\, NC\, 27609\, United States
CATEGORIES:Church Member,Missions,Worship
ATTACH;FMTTYPE=image/jpeg:https://tbcraleigh.com/wp-content/uploads/2025/08/IMG_1209-2-scaled.jpg
ORGANIZER;CN="Dr. Randy McKinney":MAILTO:rmckinney@tbcraleigh.com
END:VEVENT
BEGIN:VEVENT
DTSTART;VALUE=DATE:20251005
DTEND;VALUE=DATE:20251006
DTSTAMP:20260424T014440
CREATED:20250803T173023Z
LAST-MODIFIED:20250908T174921Z
UID:10001038-1759622400-1759708799@tbcraleigh.com
SUMMARY:Prison Alliance Collection
DESCRIPTION:Collecting new/used Bibles and Christian books for Prison Alliance. Bins in the Narthex and at major entry doors. Final collection Oct 12.
URL:https://tbcraleigh.com/event/prison-alliance-collection/2025-10-05/
LOCATION:Narthex\, 4815 Six Forks Road\, Raleigh\, NC\, 27609\, United States
CATEGORIES:Church Member,Missions,Worship
ATTACH;FMTTYPE=image/jpeg:https://tbcraleigh.com/wp-content/uploads/2025/08/IMG_1209-2-scaled.jpg
ORGANIZER;CN="Dr. Randy McKinney":MAILTO:rmckinney@tbcraleigh.com
END:VEVENT
BEGIN:VEVENT
DTSTART;VALUE=DATE:20250928
DTEND;VALUE=DATE:20250929
DTSTAMP:20260424T014440
CREATED:20250803T173023Z
LAST-MODIFIED:20250908T174921Z
UID:10001037-1759017600-1759103999@tbcraleigh.com
SUMMARY:Prison Alliance Collection
DESCRIPTION:Collecting new/used Bibles and Christian books for Prison Alliance. Bins in the Narthex and at major entry doors. Final collection Oct 12.
URL:https://tbcraleigh.com/event/prison-alliance-collection/2025-09-28/
LOCATION:Narthex\, 4815 Six Forks Road\, Raleigh\, NC\, 27609\, United States
CATEGORIES:Church Member,Missions,Worship
ATTACH;FMTTYPE=image/jpeg:https://tbcraleigh.com/wp-content/uploads/2025/08/IMG_1209-2-scaled.jpg
ORGANIZER;CN="Dr. Randy McKinney":MAILTO:rmckinney@tbcraleigh.com
END:VEVENT
BEGIN:VEVENT
DTSTART;VALUE=DATE:20250921
DTEND;VALUE=DATE:20250922
DTSTAMP:20260424T014440
CREATED:20250803T173023Z
LAST-MODIFIED:20250908T174921Z
UID:10001005-1758412800-1758499199@tbcraleigh.com
SUMMARY:Prison Alliance Collection
DESCRIPTION:Collecting new/used Bibles and Christian books for Prison Alliance. Bins in the Narthex and at major entry doors. Final collection Oct 12.
URL:https://tbcraleigh.com/event/prison-alliance-collection/2025-09-21/
LOCATION:Narthex\, 4815 Six Forks Road\, Raleigh\, NC\, 27609\, United States
CATEGORIES:Church Member,Missions,Worship
ATTACH;FMTTYPE=image/jpeg:https://tbcraleigh.com/wp-content/uploads/2025/08/IMG_1209-2-scaled.jpg
ORGANIZER;CN="Dr. Randy McKinney":MAILTO:rmckinney@tbcraleigh.com
END:VEVENT
END:VCALENDAR