BEGIN:VCALENDAR
VERSION:2.0
PRODID:-//Trinity Baptist Church - ECPv6.15.20//NONSGML v1.0//EN
CALSCALE:GREGORIAN
METHOD:PUBLISH
X-WR-CALNAME:Trinity Baptist Church
X-ORIGINAL-URL:https://tbcraleigh.com
X-WR-CALDESC:Events for Trinity Baptist Church
REFRESH-INTERVAL;VALUE=DURATION:PT1H
X-Robots-Tag:noindex
X-PUBLISHED-TTL:PT1H
BEGIN:VTIMEZONE
TZID:America/New_York
BEGIN:DAYLIGHT
TZOFFSETFROM:-0500
TZOFFSETTO:-0400
TZNAME:EDT
DTSTART:20250309T070000
END:DAYLIGHT
BEGIN:STANDARD
TZOFFSETFROM:-0400
TZOFFSETTO:-0500
TZNAME:EST
DTSTART:20251102T060000
END:STANDARD
BEGIN:DAYLIGHT
TZOFFSETFROM:-0500
TZOFFSETTO:-0400
TZNAME:EDT
DTSTART:20260308T070000
END:DAYLIGHT
BEGIN:STANDARD
TZOFFSETFROM:-0400
TZOFFSETTO:-0500
TZNAME:EST
DTSTART:20261101T060000
END:STANDARD
BEGIN:DAYLIGHT
TZOFFSETFROM:-0500
TZOFFSETTO:-0400
TZNAME:EDT
DTSTART:20270314T070000
END:DAYLIGHT
BEGIN:STANDARD
TZOFFSETFROM:-0400
TZOFFSETTO:-0500
TZNAME:EST
DTSTART:20271107T060000
END:STANDARD
END:VTIMEZONE
BEGIN:VEVENT
DTSTART;TZID=America/New_York:20260426T100000
DTEND;TZID=America/New_York:20260426T150000
DTSTAMP:20260424T050055
CREATED:20260409T151302Z
LAST-MODIFIED:20260409T151302Z
UID:10001704-1777197600-1777215600@tbcraleigh.com
SUMMARY:TBC Cares at Oak City Cares
DESCRIPTION:On Sunday\, April 26\, TBC Cares will provide lunch for 275–300 guests. Johnny Glover and his team will prepare the meal at TBC. \n\n\nWe need: \n\n\n7 volunteers to serve lunch at Oak City Cares\n3 volunteers to assist guests with socks and T-shirts\n\n\nIf you’re unable to serve\, you can still help by donating needed items (see sign-up). Please have items at the church office by Thursday\, April 23 at 2 PM. \n\n\nDonations are also welcome! Please make checks payable to TBC with “TBC Cares/Oak City Cares” in the memo line. \n\n\nPlease submit by Sunday\, April 19. \n\n\n\n\nFor more information\, contact: \n\n\nKelly Beck\, 919-946-5148 or kelbecknc@gmail.com \n\n\nBrenda Lowrance\, 919-605-1609 or bhlowrance@gmail.com \nClick Here to Sign Up
URL:https://tbcraleigh.com/event/tbc-cares-at-oak-city-cares/
LOCATION:Fellowship Hall\, 4815 Six Forks Road\, Raleigh\, NC\, 27609
CATEGORIES:Missions
ATTACH;FMTTYPE=image/jpeg:https://tbcraleigh.com/wp-content/uploads/2025/09/IMG_0827-e1758737597525.jpg
END:VEVENT
BEGIN:VEVENT
DTSTART;TZID=America/New_York:20260520T173000
DTEND;TZID=America/New_York:20260520T183000
DTSTAMP:20260424T050055
CREATED:20260410T122636Z
LAST-MODIFIED:20260410T122636Z
UID:10001750-1779298200-1779301800@tbcraleigh.com
SUMMARY:Cooper's BBQ Fellowship & Ice Cream Truck
DESCRIPTION:Cooper’s BBQ Fellowship & Ice Cream Truck\n\n\nPlease join us for our annual BBQ Fellowship Meal catered by Cooper’s BBQ and our Ice Cream Truck. Look below for more details & let us know if you will be attending! We can’t wait for an awesome time to enjoy a meal & fellowship with one another.\n\nMain Menu:\n\n\nBBQ Pulled Pork\nFried Chicken\nSides\nIce Cream Truck\n\n\n\nCost is $15 per person!\n\n\nSign-up deadline is Monday\, May 18th\, so be sure to let us know you will be there!\nClick Here to Sign up!
URL:https://tbcraleigh.com/event/coopers-bbq-fellowship-ice-cream-truck/
LOCATION:Fellowship Hall\, 4815 Six Forks Road\, Raleigh\, NC\, 27609
CATEGORIES:Church Member,Churchwide,Fellowship
ATTACH;FMTTYPE=image/jpeg:https://tbcraleigh.com/wp-content/uploads/2026/04/2R0A4410-scaled-e1775823983818.jpg
END:VEVENT
END:VCALENDAR